BEGIN:VCALENDAR
VERSION:2.0
PRODID:-//hacksw/handcal//NONSGML v1.0//EN
BEGIN:VEVENT
DTSTART:20131119T180000
DTEND:20131119T210000
LOCATION:IAE Aix en Provence \nChemin de la Quille \n13540 AIX-EN-PROVENCE
ORGANIZER;CN=STÉPHANE SALORD:MAILTO:stephane.salord@preludium.fr
SUMMARY:Entreprendre dans la santé et l'environnement - 19 novembre - Forum ouvert
DESCRIPTION:Un forum proposé par l'association des Diplomés et ses partenaires; à l'IAE d'Aix; pour vous inscrire : jde2013@iae-aix.com\nComme chaque année, l'ensemble des partenaires des JDE vous proposent une...
URL:https://alumni-sciencespoaix.fr/fr/event/entreprendre-dans-la-sante-et-l-environnement-19-novembre-forum-ouvert/2013/11/19/139
BEGIN:VALARM
TRIGGER:-P0DT1H0M0S
ACTION:DISPLAY
END:VALARM
END:VEVENT
END:VCALENDAR