BEGIN:VCALENDAR
VERSION:2.0
PRODID:-//hacksw/handcal//NONSGML v1.0//EN
BEGIN:VEVENT
DTSTART:20140106T131100
DTEND:20140131T200000
LOCATION:Sciences Po Aix
ORGANIZER;CN=Le Réseau:MAILTO:
SUMMARY:Les autres rendez-vous à Sciences Po Aix en janvier.....
DESCRIPTION:MANIFESTATION n° 1\nDate : Du Mercredi 08 Janvier au Vendredi 31 Janvier 2013. Exposition accessible du lundi au vendredi de 9h à 18h.\nOrganisée par : Kinda CHAIB, Khalila COEFFIC, Alix...
URL:https://alumni-sciencespoaix.fr/fr/event/les-autres-rendez-vous-a-sciences-po-aix-en-janvier/2014/01/06/173
BEGIN:VALARM
TRIGGER:-P0DT1H0M0S
ACTION:DISPLAY
END:VALARM
END:VEVENT
END:VCALENDAR