BEGIN:VCALENDAR
VERSION:2.0
PRODID:-//hacksw/handcal//NONSGML v1.0//EN
BEGIN:VEVENT
DTSTART:20140204T131400
DTEND:20140204T161400
LOCATION:Aix en provence
ORGANIZER;CN=Le Réseau:MAILTO:
SUMMARY:Les ateliers du réseau Excellence du second semestre
DESCRIPTION:\nCycle Vertueux Carrières\nTrouve ton emploi\nBooste ta carrière\nSAISON 4 :\nJanvier-Juin 2014\nLes Associations de Diplômés des trois grandes écoles d’Aix en Provence unissent leurs compétences et ...
URL:https://alumni-sciencespoaix.fr/fr/event/les-ateliers-du-reseau-excellence-du-second-semestre/2014/02/04/181
BEGIN:VALARM
TRIGGER:-P0DT1H0M0S
ACTION:DISPLAY
END:VALARM
END:VEVENT
END:VCALENDAR