BEGIN:VCALENDAR
VERSION:2.0
PRODID:-//hacksw/handcal//NONSGML v1.0//EN
BEGIN:VEVENT
DTSTART:20140923T174700
DTEND:20141001T220000
LOCATION:Sciences Po Aix
ORGANIZER;CN=Le Réseau:MAILTO:
SUMMARY:1octobre: Conférence sur Jules Verne déplacée en Amphi Bruno Etienne
DESCRIPTION:> Conférence \n" Trois variations sur l'utopie dans l’œuvre de Jules Verne : énergie, voyages, découvertes "\nStéphane Salord, diplômé Sciences Po Aix (SP1992)\nMercredi 1er octobre de 18h15 à 20h,...
URL:https://alumni-sciencespoaix.fr/fr/event/1octobre-conference-sur-jules-verne-deplacee-en-amphi-bruno-etienne/2014/09/23/231
BEGIN:VALARM
TRIGGER:-P0DT1H0M0S
ACTION:DISPLAY
END:VALARM
END:VEVENT
END:VCALENDAR