BEGIN:VCALENDAR
VERSION:2.0
PRODID:-//hacksw/handcal//NONSGML v1.0//EN
BEGIN:VEVENT
DTSTART:20150609T121700
DTEND:20150630T150000
LOCATION:Sciences Po Aix
ORGANIZER;CN=Le Réseau:MAILTO:
SUMMARY:Agenda du mois de Juin Sciences Po Aix
DESCRIPTION:\njeudi 11 juin 2015\njuin\n11\n18h15\nConférence\nConférence « La politique monétaire européenne »\nDate : Jeudi 11 Juin 2015 à 18h15\nOrganisée par : Mouvement Européen Provence\nPrésentation :...
URL:https://alumni-sciencespoaix.fr/fr/event/agenda-du-mois-de-juin-sciences-po-aix/2015/06/09/259
BEGIN:VALARM
TRIGGER:-P0DT1H0M0S
ACTION:DISPLAY
END:VALARM
END:VEVENT
END:VCALENDAR