BEGIN:VCALENDAR
VERSION:2.0
PRODID:-//hacksw/handcal//NONSGML v1.0//EN
BEGIN:VEVENT
DTSTART:20150915T164000
DTEND:20151031T194000
LOCATION:Sciences Po Aix
ORGANIZER;CN=Le Réseau:MAILTO:
SUMMARY:Agenda du mois d'octobre 2015 à Sciences Po Aix
DESCRIPTION:\nMANIFESTATION n° 1\nDate : Mardi 6 Octobre 2015, de 18h15 à 20h\nOrganisée par : Le Collectif pour le climat – Pays d’Aix\nPrésentation : Conférence sur le thème « Exemples concrets d’énergies...
URL:https://alumni-sciencespoaix.fr/fr/event/agenda-du-mois-d-octobre-2015-a-sciences-po-aix/2015/09/15/263
BEGIN:VALARM
TRIGGER:-P0DT1H0M0S
ACTION:DISPLAY
END:VALARM
END:VEVENT
END:VCALENDAR