BEGIN:VCALENDAR
VERSION:2.0
PRODID:-//hacksw/handcal//NONSGML v1.0//EN
BEGIN:VEVENT
DTSTART:20151102T130000
DTEND:20151130T160000
LOCATION:Sciences Po Aix
ORGANIZER;CN=Le Réseau:MAILTO:
SUMMARY:Agenda du mois de novembre 2015 à Sciences Po Aix
DESCRIPTION:\nMANIFESTATION n°1\nDate : Mardi 03 Novembre 2015, de 18h15 à 20h\nOrganisée par : Centre Franco-allemand de Provence\nPrésentation : Conférence sur le thème « 50 ans de relations...
URL:https://alumni-sciencespoaix.fr/fr/event/agenda-du-mois-de-novembre-2015-a-sciences-po-aix/2015/11/02/273
BEGIN:VALARM
TRIGGER:-P0DT1H0M0S
ACTION:DISPLAY
END:VALARM
END:VEVENT
END:VCALENDAR