BEGIN:VCALENDAR
VERSION:2.0
PRODID:-//hacksw/handcal//NONSGML v1.0//EN
BEGIN:VEVENT
DTSTART:20250214T203000
DTEND:20250214T233000
LOCATION:L’Estello \n1, Cours Mirabeau \n13100 AIX-EN-PROVENCE
ORGANIZER;CN=Adrien LAVERGNE:MAILTO:adrienlavergne.contact@gmail.com
SUMMARY:Afterwork Diplomation de la Promotion Marcel Pagnol
DESCRIPTION:Cher(e)s diplômé(e)s de la promotion Marcel Pagnol, l'Association des diplômés de Sciences Po Aix a le plaisir de vous convier à un afterwork après la cérémonie de remise des diplômes ! 🎓\nPremière...
URL:https://alumni-sciencespoaix.fr/fr/event/afterwork-diplomation-de-la-promotion-marcel-pagnol/2025/02/14/383
BEGIN:VALARM
TRIGGER:-P0DT1H0M0S
ACTION:DISPLAY
END:VALARM
END:VEVENT
END:VCALENDAR